BEGIN:VCALENDAR
PRODID:-//github.com/rianjs/ical.net//NONSGML ical.net 4.0//EN
VERSION:2.0
BEGIN:VEVENT
CLASS:PUBLIC
CREATED:20251024T202034
DESCRIPTION:High visibility targeted foot patrol around ASB areas in Rugby
  West area.
DTEND:20260502T160000
DTSTAMP:20251024T192034Z
DTSTART:20260502T140000
LOCATION:\,
SEQUENCE:0
STATUS:
SUMMARY:High visibility targeted foot patrol around ASB areas in Rugby Wes
 t area.
UID:8435CE2AD4B68ADDBDF3B9F475B38CC4
END:VEVENT
END:VCALENDAR
