BEGIN:VCALENDAR
PRODID:-//github.com/rianjs/ical.net//NONSGML ical.net 4.0//EN
VERSION:2.0
BEGIN:VEVENT
CLASS:PUBLIC
CREATED:20251122T082820
DESCRIPTION:Attend local summer fair at St Gabriel's Academy
DTEND:20260626T180000
DTSTAMP:20251122T082820Z
DTSTART:20260626T153000
LOCATION:St Gabriel's CofE Academy\, Houlton Way\,CV23 1AN
SEQUENCE:0
STATUS:
SUMMARY:St Gabriel's Summer Fair
END:VEVENT
END:VCALENDAR
